BEGIN:VCALENDAR
VERSION:2.0
PRODID:-//ChamberMaster//Event Calendar 2.0//EN
METHOD:PUBLISH
X-PUBLISHED-TTL:P3D
REFRESH-INTERVAL:P3D
CALSCALE:GREGORIAN
BEGIN:VEVENT
DTSTART:20080313T223000Z
DTEND:20080313T223000Z
X-MICROSOFT-CDO-ALLDAYEVENT:FALSE
SUMMARY:Wine Tasting & Live Music by Kate Minogue
DESCRIPTION:Wine Tasting - Savor four wines while enjoying appetizers and music by Kate Minogue
X-ALT-DESC;FMTTYPE=text/html:Wine Tasting - Savor four wines while enjoying appetizers and music by Kate Minogue\n
LOCATION:Legends of Lake Norman
UID:e.220.4148
SEQUENCE:3
DTSTAMP:20260425T003021Z
URL:https://business.mooresvillenc.org/events/details/wine-tasting-live-music-by-kate-minogue-03-13-2008-4148
END:VEVENT

END:VCALENDAR
