BEGIN:VCALENDAR
VERSION:2.0
PRODID:-//ChamberMaster//Event Calendar 2.0//EN
METHOD:PUBLISH
X-PUBLISHED-TTL:P3D
REFRESH-INTERVAL:P3D
CALSCALE:GREGORIAN
BEGIN:VEVENT
DTSTART:20080327T223000Z
DTEND:20080327T223000Z
X-MICROSOFT-CDO-ALLDAYEVENT:FALSE
SUMMARY:Wine Tasting & Live Music June Benfield
DESCRIPTION:Wine Tasting presented by Mutual Wine.\nSavor Four Wines served with appetizers.\nLive music by June Benfield.
X-ALT-DESC;FMTTYPE=text/html:Wine Tasting presented by Mutual Wine.\nSavor Four Wines served with appetizers.\nLive music by June Benfield.
LOCATION:Legends of Lake Norman
UID:e.220.4432
SEQUENCE:3
DTSTAMP:20260425T003021Z
URL:https://business.mooresvillenc.org/events/details/wine-tasting-live-music-june-benfield-03-27-2008-4432
END:VEVENT

END:VCALENDAR
