BEGIN:VCALENDAR
VERSION:2.0
PRODID:-//ChamberMaster//Event Calendar 2.0//EN
METHOD:PUBLISH
X-PUBLISHED-TTL:P3D
REFRESH-INTERVAL:P3D
CALSCALE:GREGORIAN
BEGIN:VEVENT
DTSTART:20080220T233000Z
DTEND:20080221T013000Z
X-MICROSOFT-CDO-ALLDAYEVENT:FALSE
SUMMARY:Wine Tasting & Truffle Pairing
DESCRIPTION:Two select Wines paired with Two Truffles
X-ALT-DESC;FMTTYPE=text/html:Two select Wines paired with Two Truffles
LOCATION:Legends of Lake Norman
UID:e.220.4066
SEQUENCE:3
DTSTAMP:20260425T021300Z
URL:https://business.mooresvillenc.org/events/details/wine-tasting-truffle-pairing-02-20-2008-4066
END:VEVENT

END:VCALENDAR
