BEGIN:VCALENDAR
VERSION:2.0
PRODID:-//ChamberMaster//Event Calendar 2.0//EN
METHOD:PUBLISH
X-PUBLISHED-TTL:P3D
REFRESH-INTERVAL:P3D
CALSCALE:GREGORIAN
BEGIN:VEVENT
DTSTART:20080317T223000Z
DTEND:20080318T003000Z
X-MICROSOFT-CDO-ALLDAYEVENT:FALSE
SUMMARY:Wine Tasting & Truffle Pairing
DESCRIPTION:Wine Tasting:\nTwo Wines paired with Two Truffles (chocolates)\nGreat opportunity to learn about wines and chocolate.
X-ALT-DESC;FMTTYPE=text/html:Wine Tasting:\nTwo Wines paired with Two Truffles (chocolates)\nGreat opportunity to learn about wines and chocolate.
LOCATION:Legends of Lake Norman
UID:e.220.4430
SEQUENCE:3
DTSTAMP:20260425T002959Z
URL:https://business.mooresvillenc.org/events/details/wine-tasting-truffle-pairing-03-17-2008-4430
END:VEVENT

END:VCALENDAR
