BEGIN:VCALENDAR
VERSION:2.0
PRODID:-//ChamberMaster//Event Calendar 2.0//EN
METHOD:PUBLISH
X-PUBLISHED-TTL:P3D
REFRESH-INTERVAL:P3D
CALSCALE:GREGORIAN
BEGIN:VEVENT
DTSTART:20080108T233000Z
DTEND:20080109T013000Z
X-MICROSOFT-CDO-ALLDAYEVENT:FALSE
SUMMARY:Wine & Truffle Pairing
DESCRIPTION:Select Wines and Truffles paired.
X-ALT-DESC;FMTTYPE=text/html:Select Wines and Truffles paired.
LOCATION:Legends of Lake Norman
UID:e.220.3985
SEQUENCE:3
DTSTAMP:20260425T033726Z
URL:https://business.mooresvillenc.org/events/details/wine-truffle-pairing-01-08-2008-3985
END:VEVENT

END:VCALENDAR
