BEGIN:VCALENDAR
VERSION:2.0
PRODID:-//ChamberMaster//Event Calendar 2.0//EN
METHOD:PUBLISH
X-PUBLISHED-TTL:P3D
REFRESH-INTERVAL:P3D
CALSCALE:GREGORIAN
BEGIN:VEVENT
DTSTART:20080225T233000Z
DTEND:20080226T013000Z
X-MICROSOFT-CDO-ALLDAYEVENT:FALSE
SUMMARY:Wine & Truffle Pairing
DESCRIPTION:Two wines paired with Two Truffles
X-ALT-DESC;FMTTYPE=text/html:Two wines paired with Two Truffles
LOCATION:Legends of Lake Norman 123 - E Trade Court\, Mooresville\, NC 28117
UID:e.220.4071
SEQUENCE:3
DTSTAMP:20260425T020602Z
URL:https://business.mooresvillenc.org/events/details/wine-truffle-pairing-02-25-2008-4071
END:VEVENT

END:VCALENDAR
