BEGIN:VCALENDAR
VERSION:2.0
PRODID:-//ChamberMaster//Event Calendar 2.0//EN
METHOD:PUBLISH
X-PUBLISHED-TTL:P3D
REFRESH-INTERVAL:P3D
CALSCALE:GREGORIAN
BEGIN:VEVENT
DTSTART:20080121T233000Z
DTEND:20080121T233000Z
X-MICROSOFT-CDO-ALLDAYEVENT:FALSE
SUMMARY:Wine & Truffle Pairing at Legends of Lake Norman
DESCRIPTION:Wines paired with Truffles.
X-ALT-DESC;FMTTYPE=text/html:Wines paired with Truffles.
LOCATION:Legends of Lake Norman
UID:e.220.4003
SEQUENCE:3
DTSTAMP:20260425T034640Z
URL:https://business.mooresvillenc.org/events/details/wine-truffle-pairing-at-legends-of-lake-norman-01-21-2008-4003
END:VEVENT

END:VCALENDAR
